BEGIN:VCALENDAR
VERSION:2.0
METHOD:PUBLISH
PRODID:-//imacoda.com//SPD-Web-O-Mat//EN
CALSCALE:GREGORIAN
BEGIN:VTIMEZONE
TZID:Europe/Berlin
BEGIN:DAYLIGHT
TZOFFSETFROM:+0100
RRULE:FREQ=YEARLY;BYMONTH=3;BYDAY=-1SU
DTSTART:19810329T020000
TZNAME:MESZ
TZOFFSETTO:+0200
END:DAYLIGHT
BEGIN:STANDARD
TZOFFSETFROM:+0200
RRULE:FREQ=YEARLY;BYMONTH=10;BYDAY=-1SU
DTSTART:19961027T030000
TZNAME:MEZ
TZOFFSETTO:+0100
END:STANDARD
END:VTIMEZONE
BEGIN:VEVENT
UID:20190910T111928Z-00000482619-LULU@www.bayernspd.de
CREATED:20190910T111928Z
LAST-MODIFIED:20190910T111928Z
DTSTAMP:20190910T111928Z
TRANSP:TRANSPARENT
DTSTART;TZID=Europe/Berlin:20190914T130000
DTEND;TZID=Europe/Berlin:20190914T130000
SUMMARY:100 Jahre AWO - 100 Jahre Frauenwahlrecht - 100 Jahre SPD im Sta
 dtrat
LOCATION:Ochsenfurt
DESCRIPTION:Termin im Web (Bernd Rützel):\nhttps://bernd-ruetzel.de/term
 ine/?id=482619
END:VEVENT
END:VCALENDAR
