BEGIN:VCALENDAR
VERSION:2.0
METHOD:PUBLISH
PRODID:-//imacoda.com//SPD-Web-O-Mat//EN
CALSCALE:GREGORIAN
BEGIN:VTIMEZONE
TZID:Europe/Berlin
BEGIN:DAYLIGHT
TZOFFSETFROM:+0100
RRULE:FREQ=YEARLY;BYMONTH=3;BYDAY=-1SU
DTSTART:19810329T020000
TZNAME:MESZ
TZOFFSETTO:+0200
END:DAYLIGHT
BEGIN:STANDARD
TZOFFSETFROM:+0200
RRULE:FREQ=YEARLY;BYMONTH=10;BYDAY=-1SU
DTSTART:19961027T030000
TZNAME:MEZ
TZOFFSETTO:+0100
END:STANDARD
END:VTIMEZONE
BEGIN:VEVENT
UID:20190506T134758Z-00000462773-LULU@www.bayernspd.de
CREATED:20190506T134758Z
LAST-MODIFIED:20190506T134758Z
DTSTAMP:20190506T134758Z
TRANSP:TRANSPARENT
DTSTART;TZID=Europe/Berlin:20190520T080000
DTEND;TZID=Europe/Berlin:20190520T080000
SUMMARY:Ausstellungseröffnung "Die Macht der Gefühle"
LOCATION:Gemünden\, Realschule
DESCRIPTION:Termin im Web (Bernd Rützel):\nhttps://bernd-ruetzel.de/term
 ine/?id=462773
END:VEVENT
END:VCALENDAR
